Workbook
Name Hidden_13: Hidden_1!$A$1:$A$2
Name Hidden_27: Hidden_2!$A$1:$A$2
Name Hidden_310: Hidden_3!$A$1:$A$2
Name Hidden_413: Hidden_4!$A$1:$A$32
Name Hidden_514: Hidden_5!$A$1:$A$2
Name Hidden_616: Hidden_6!$A$1:$A$26
Name Hidden_720: Hidden_7!$A$1:$A$41
Name Hidden_827: Hidden_8!$A$1:$A$32

Sheet Reporte de Formatos
A1: 2240
A2: Título | D2: Nombre corto | G2: Descripción
A3: Padrón de proveedores y contratistas | D3: LGT_65_XXX | G3: La información relativa a las personas físicas y morales con las que se celebre contratos de adquisiciones, arrendamientos, servicios, obras públicas y/o servicios relacionados con las mismas y en su caso éste deberá guardar correspondencia con el registro electrónico de proveedores que le corresponda
A4: 1 | B4: 4 | C4: 4 | D4: 9 | E4: 1 | F4: 1 | G4: 1 | H4: 9 | I4: 2 | J4: 1 | K4: 9 | L4: 1 | M4: 1 | N4: 9 | O4: 9 | P4: 2 | Q4: 9 | R4: 1 | S4: 1 | T4: 1 | U4: 9 | V4: 1 | W4: 1 | X4: 1 | Y4: 1 | Z4: 1 | AA4: 1 | AB4: 9 | AC4: 1 | AD4: 1 | AE4: 1 | AF4: 2 | AG4: 1 | AH4: 1 | AI4: 1 | AJ4: 1 | AK4: 1 | AL4: 2 | AM4: 1 | AN4: 7 | AO4: 1 | AP4: 2 | AQ4: 7 | AR4: 7 | AS4: 2 | AT4: 13 | AU4: 14
A5: 36694 | B5: 36695 | C5: 36696 | D5: 36697 | E5: 36698 | F5: 36699 | G5: 36700 | H5: 36701 | I5: 36702 | J5: 36703 | K5: 36704 | L5: 36705 | M5: 36706 | N5: 36707 | O5: 36708 | P5: 36709 | Q5: 36710 | R5: 36711 | S5: 36712 | T5: 36713 | U5: 36714 | V5: 36715 | W5: 36716 | X5: 36717 | Y5: 36718 | Z5: 36719 | AA5: 36720 | AB5: 36721 | AC5: 36722 | AD5: 36723 | AE5: 36724 | AF5: 36725 | AG5: 36726 | AH5: 36727 | AI5: 36728 | AJ5: 36729 | AK5: 36730 | AL5: 36731 | AM5: 36732 | AN5: 36733 | AO5: 36734 | AP5: 36735 | AQ5: 36736 | AR5: 36737 | AS5: 36738 | AT5: 36739 | AU5: 36740
A6: Tabla Campos
A7: Ejercicio | B7: Fecha de inicio del periodo que se informa | C7: Fecha de término del periodo que se informa | D7: Personalidad jurídica de la persona proveedora o contratista (catálogo) | E7: Nombre(s) de la persona física proveedora o contratista | F7: Primer apellido de la persona física proveedora o contratista | G7: Segundo apellido de la persona física proveedora o contratista | H7: Sexo (catálogo) | I7: Denominación o razón social de la persona moral proveedora o contratista | J7: Estratificación | K7: Origen de la persona proveedora o contratista (catálogo) | L7: País de origen, si la empresa es una filial extranjera | M7: Registro Federal de Contribuyentes (RFC) de la persona física o moral con homoclave incluida | N7: Entidad federativa de la persona física o moral (catálogo) | O7: La persona proveedora o contratista realiza subcontrataciones (catálogo) | P7: Actividad económica de la empresa | Q7: Domicilio fiscal: Tipo de vialidad (catálogo) | R7: Domicilio fiscal: Nombre de la vialidad | S7: Domicilio fiscal: Número exterior | T7: Domicilio fiscal: Número interior, en su caso | U7: Domicilio fiscal: Tipo de asentamiento (catálogo) | V7: Domicilio fiscal: Nombre del asentamiento | W7: Domicilio fiscal: Clave de la localidad | X7: Domicilio fiscal: Nombre de la localidad | Y7: Domicilio fiscal: Clave del municipio | Z7: Domicilio fiscal: Nombre del municipio o alcaldía | AA7: Domicilio fiscal: Clave de la Entidad Federativa | AB7: Domicilio fiscal: Entidad Federativa (catálogo) | AC7: Domicilio fiscal: Código postal | AD7: País del domicilio en el extranjero, en su caso | AE7: Ciudad del domicilio en el extranjero, en su caso | AF7: Calle del domicilio en el extranjero, en su caso | AG7: Número del domicilio en el extranjero, en su caso | AH7: Nombre del/la representante legal de la empresa | AI7: Primer apellido del/la representante legal de la empresa | AJ7: Segundo apellido del/la representante legal de la empresa | AK7: Teléfono de contacto del/la representante legal de la empresa | AL7: Correo electrónico del/la representante legal, en su caso | AM7: Tipo de acreditación legal representante legal | AN7: Página web de la persona proveedora o contratista | AO7: Teléfono oficial de la persona proveedora o contratista | AP7: Correo electrónico comercial de la persona proveedora o contratista | AQ7: Hipervínculo al registro electrónico de personas proveedoras y contratistas | AR7: Hipervínculo al Directorio de Proveedores y Contratistas Sancionados | AS7: Área(s) responsable(s) que genera(n), posee(n), publica(n) y actualiza(n) la información | AT7: Fecha de actualización | AU7: Nota
A8: 2026 | B8: 46204 | C8: 46295 | D8: =Hidden_1!A1 -> Persona física | E8: CESAR HUMBERTO | F8: GARCIA | G8: GARIBALDI | H8: =Hidden_2!A2 -> Hombre | I8: CESAR HUMBERTO GARCIA GARIBALDI | K8: =Hidden_3!A1 -> Nacional | M8: GAGC950312MG6 | N8: =Hidden_4!A18 -> Nayarit | O8: =Hidden_5!A2 -> No | P8: Comercio al pormenor de llantas | Q8: =Hidden_6!A3 -> Avenida | R8: Insurgentes | S8: 1150 | U8: =Hidden_7!A7 -> Colonia | V8: lomas bonitas | W8: 17 | X8: Tepic | Y8: 17 | Z8: Tepic | AA8: 17 | AB8: =Hidden_8!A18 -> Nayarit | AC8: 63062 | AO8: 3112481380 | AP8: mrodeo@hotmail.com | AS8: Direccion de administracion | AT8: 46310
A9: 2026 | B9: 46204 | C9: 46295 | D9: =Hidden_1!A2 -> Persona moral | E9: Rizo papelera | H9: =Hidden_2!A2 -> Hombre | I9: Rizo Papelera | K9: =Hidden_3!A1 -> Nacional | M9: RPA020610ET2 | N9: =Hidden_4!A18 -> Nayarit | O9: =Hidden_5!A2 -> No | P9: ALQUILER Y COERCIO AL POR MAYOR DE MOBILIARIO EQUIPO DE OFICINA | Q9: =Hidden_6!A6 -> Calle | R9: Argentina | S9: 221 | U9: =Hidden_7!A7 -> Colonia | V9: Los fresnos | W9: 17 | X9: Tepic | Y9: 17 | Z9: Tepic | AA9: 17 | AB9: =Hidden_8!A18 -> Nayarit | AC9: 63190 | AO9: 3112131650 | AP9: rizopapelera@hotmail.com | AS9: Direccion de administracion | AT9: 46310
A10: 2026 | B10: 46204 | C10: 46295 | D10: =Hidden_1!A1 -> Persona física | E10: Celia Elena | F10: González | G10: Berecochea | H10: =Hidden_2!A1 -> Mujer | I10: Celia Elena González Berecochea | K10: =Hidden_3!A1 -> Nacional | M10: GOBC640424M14 | N10: =Hidden_4!A18 -> Nayarit | O10: =Hidden_5!A2 -> No | P10: ARRENDAMIENTO DE INMUEBLE | Q10: =Hidden_6!A6 -> Calle | R10: ECUADOR | S10: 73 | U10: =Hidden_7!A7 -> Colonia | V10: Los fresnos | W10: 17 | X10: Tepic | Y10: 17 | Z10: Tepic | AA10: 17 | AB10: =Hidden_8!A18 -> Nayarit | AC10: 63185 | AS10: Direccion de administracion | AT10: 46310
A11: 2026 | B11: 46204 | C11: 46295 | D11: =Hidden_1!A1 -> Persona física | E11: Abimael | F11: Zepeda | G11: Moncada | H11: =Hidden_2!A2 -> Hombre | I11: Abimael Zepeda Moncada | K11: =Hidden_3!A1 -> Nacional | M11: ZEMA751020PD8 | N11: =Hidden_4!A18 -> Nayarit | O11: =Hidden_5!A2 -> No | P11: SERVICIOS DE HERRERÍA | W11: 17 | X11: Tepic | Y11: 17 | Z11: Tepic | AA11: 17 | AB11: =Hidden_8!A18 -> Nayarit | AS11: Dirección de administracion | AT11: 46310
A12: 2026 | B12: 46204 | C12: 46295 | D12: =Hidden_1!A2 -> Persona moral | E12: Telefonia por Cable | H12: =Hidden_2!A2 -> Hombre | I12: Telefonia por Cable | K12: =Hidden_3!A1 -> Nacional | M12: TCA0407219T6 | N12: =Hidden_4!A18 -> Nayarit | O12: =Hidden_5!A2 -> No | P12: Proveedores de acceso a internet y servicios de la red | Q12: =Hidden_6!A6 -> Calle | R12: Lazaro Cardenas | S12: 1694 | U12: =Hidden_7!A7 -> Colonia | V12: Del fresno seccion 1 | W12: 14 | X12: GUADALAJARA | Y12: 14 | Z12: GUADALAJARA | AA12: 14 | AB12: Jalisco | AC12: 44900 | AS12: Dirección de administracion | AT12: 46310
A13: 2026 | B13: 46204 | C13: 46295 | D13: =Hidden_1!A1 -> Persona física | E13: Fidencio Noe | F13: Fuentes | G13: del Muro | H13: =Hidden_2!A2 -> Hombre | I13: Fidencio Noe Fuentes del Muro | K13: =Hidden_3!A1 -> Nacional | M13: FUMF881237MF3 | N13: =Hidden_4!A18 -> Nayarit | O13: =Hidden_5!A2 -> No | P13: SERVICIOS MECANICOS PARA MANTENIMIENTOS AUTOMOTRICES | Q13: =Hidden_6!A6 -> Calle | R13: SIETE | S13: 63 | U13: =Hidden_7!A7 -> Colonia | V13: EL RODEO | W13: 17 | X13: Tepic | Y13: 17 | Z13: Tepic | AA13: 17 | AB13: Nayarit | AC13: 63060 | AS13: Dirección de administracion | AT13: 46310
A14: 2026 | B14: 46204 | C14: 46295 | D14: =Hidden_1!A1 -> Persona física | E14: Jose Manuel | F14: Rosales | G14: Zenteno | H14: =Hidden_2!A2 -> Hombre | I14: Jose Manuel Rosales Zenteno | K14: =Hidden_3!A1 -> Nacional | M14: ROZM780311BK0 | N14: =Hidden_4!A18 -> Nayarit | O14: =Hidden_5!A2 -> No | P14: restaurante | Q14: =Hidden_6!A6 -> Calle | R14: insurgentes | S14: 233 | U14: =Hidden_7!A7 -> Colonia | V14: Versalles | W14: 17 | X14: Tepic | Y14: 17 | Z14: Tepic | AA14: 17 | AB14: Nayarit | AC14: 63000 | AN14: https://laola.mx | AO14: 3111693323 | AS14: Dirección de administracion | AT14: 46310
A15: 2026 | B15: 46204 | C15: 46295 | D15: =Hidden_1!A1 -> Persona física | E15: Yaneth Guadalupe | F15: Vazquez | G15: Gamboa | H15: =Hidden_2!A1 -> Mujer | I15: Yaneth Guadalupe Vazquez Gamboa | K15: =Hidden_3!A1 -> Nacional | M15: VAGY8909227H9 | N15: =Hidden_4!A18 -> Nayarit | O15: =Hidden_5!A2 -> No | P15: FLORERIA | Q15: =Hidden_6!A6 -> Calle | R15: LEON | S15: 199 | U15: =Hidden_7!A7 -> Colonia | V15: centro | W15: 17 | X15: Tepic | Y15: 17 | Z15: Tepic | AA15: 17 | AB15: Nayarit | AC15: 63000 | AO15: 3112662619 | AS15: Dirección de administracion | AT15: 46310
A16: 2026 | B16: 46204 | C16: 46295 | D16: =Hidden_1!A2 -> Persona moral | E16: Sistema Integral de Agua Potable y Alcantarillado de Tepic | H16: =Hidden_2!A1 -> Mujer | I16: Sistema Integral de Agua Potable y Alcantarillado de Tepic | K16: =Hidden_3!A1 -> Nacional | M16: SIA810801RC8 | N16: =Hidden_4!A18 -> Nayarit | O16: =Hidden_5!A2 -> No | P16: SUMINISTRO DE AGUA POTABLE | Q16: =Hidden_6!A6 -> Calle | R16: DR. GUSTAVO BAZ | S16: 67 | U16: =Hidden_7!A7 -> Colonia | V16: FRAY JUNIPERO SERRA | W16: 17 | X16: TEPIC | Y16: 17 | Z16: TEPIC | AA16: 17 | AB16: =Hidden_8!A18 -> Nayarit | AC16: 63195 | AN16: https://www.siapa.tepic.gob.mx | AO16: 3111333444 | AS16: Dirección de administracion | AT16: 46310
A17: 2026 | B17: 46204 | C17: 46295 | D17: =Hidden_1!A2 -> Persona moral | E17: Instituto para el desarrollo tecnico de las haciendas | H17: =Hidden_2!A1 -> Mujer | I17: Instituto para el desarrollo tecnico de las haciendas | K17: =Hidden_3!A1 -> Nacional | M17: IDT7304062KA | AC17: 45019 | AS17: Dirección de administracion | AT17: 46310
A18: 2026 | B18: 46204 | C18: 46295 | D18: =Hidden_1!A1 -> Persona física | E18: Gerardo | F18: Negrete | G18: Mengibar | H18: =Hidden_2!A2 -> Hombre | I18: Gerardo Negrete Mengibar | K18: =Hidden_3!A1 -> Nacional | M18: NEMG7007042L7 | N18: =Hidden_4!A18 -> Nayarit | O18: =Hidden_5!A2 -> No | P18: restaurante | Q18: =Hidden_6!A6 -> Calle | R18: Country Club | S18: 12 | U18: =Hidden_7!A7 -> Colonia | V18: Versalles | W18: 17 | X18: TEPIC | Y18: 17 | Z18: TEPIC | AA18: 17 | AB18: =Hidden_8!A18 -> Nayarit | AC18: 63139 | AN18: https://www.tangoymilonga.com | AO18: 3114569207 | AS18: Dirección de administracion | AT18: 46310
A19: 2026 | B19: 46204 | C19: 46295 | D19: =Hidden_1!A1 -> Persona física | E19: Jesus Isidro | F19: Flores | G19: Ortega | H19: =Hidden_2!A2 -> Hombre | I19: Jesus Isidro Flores Ortega | K19: =Hidden_3!A1 -> Nacional | M19: FOOJ960127QL9 | N19: =Hidden_4!A18 -> Nayarit | O19: =Hidden_5!A2 -> No | P19: IMPRESIONES ESPECIALES Y PROFESIONALES | Q19: =Hidden_6!A6 -> Calle | R19: ZACATECAS | S19: 372 | U19: =Hidden_7!A7 -> Colonia | V19: SAN ANTONIO | W19: 17 | X19: TEPIC | Y19: 17 | Z19: TEPIC | AA19: 17 | AB19: =Hidden_8!A18 -> Nayarit | AC19: 63159 | AO19: 3111119813 | AP19: FFLORESORIA@YAHOO.COM.MX | AS19: Dirección de administracion | AT19: 46310
A20: 2026 | B20: 46204 | C20: 46295 | D20: =Hidden_1!A2 -> Persona moral | E20: Horizonte Restaurante S.A. de C.V. | H20: =Hidden_2!A2 -> Hombre | I20: Horizonte Restaurante S.A. de C.V. | K20: =Hidden_3!A1 -> Nacional | M20: HRE051013FZ6 | N20: =Hidden_4!A18 -> Nayarit | O20: =Hidden_5!A2 -> No | P20: RESTAURANTE | Q20: =Hidden_6!A6 -> Calle | R20: EMILIANO ZAPATA | S20: 91 | U20: =Hidden_7!A7 -> Colonia | V20: CENTRO | W20: 17 | X20: TEPIC | Y20: 17 | Z20: TEPIC | AA20: 17 | AB20: =Hidden_8!A18 -> Nayarit | AC20: 63000 | AS20: Dirección de administracion | AT20: 45945
A21: 2026 | B21: 46204 | C21: 46295 | D21: =Hidden_1!A2 -> Persona moral | E21: Grupo Octano | H21: =Hidden_2!A2 -> Hombre | I21: Grupo Octano | K21: =Hidden_3!A1 -> Nacional | M21: GOC9303301F4 | N21: =Hidden_4!A18 -> Nayarit | O21: =Hidden_5!A2 -> No | P21: COMERCIO AL PORMENOR DE GASOLINA | Q21: =Hidden_6!A3 -> Avenida | R21: AVENIDA JUAREZ | S21: 346 | U21: =Hidden_7!A7 -> Colonia | V21: CENTRO | W21: 17 | X21: TEPIC | Y21: 17 | Z21: TEPIC | AA21: 17 | AB21: =Hidden_8!A18 -> Nayarit | AC21: 63000 | AN21: https://grupooctano.com.mx | AO21: 3112141621 | AS21: Dirección de administracion | AT21: 46310
A22: 2026 | B22: 46204 | C22: 46295 | D22: =Hidden_1!A2 -> Persona moral | E22: Comision Federal de Electricidad | H22: =Hidden_2!A2 -> Hombre | I22: Comision Federal de Electricidad | K22: =Hidden_3!A1 -> Nacional | N22: =Hidden_4!A18 -> Nayarit | O22: =Hidden_5!A2 -> No | P22: SUMINISTRO DE ENERGIA ELECTRICA | Q22: =Hidden_6!A3 -> Avenida | R22: INDEPENDENCIA | S22: 54 | U22: =Hidden_7!A7 -> Colonia | V22: CENTRO | W22: 17 | X22: TEPIC | Y22: 17 | Z22: TEPIC | AA22: 17 | AB22: =Hidden_8!A18 -> Nayarit | AC22: 63000 | AN22: https://www.cfe.gob.mx | AO22: 3112118000 | AS22: Dirección de administracion | AT22: 46310
A23: 2026 | B23: 46204 | C23: 46295 | D23: =Hidden_1!A1 -> Persona física | E23: Rigoberto | F23: Gracian | G23: Moreno | H23: =Hidden_2!A2 -> Hombre | I23: Rigoberto Gracian Moreno | K23: =Hidden_3!A1 -> Nacional | M23: GAMR891112LC4 | N23: =Hidden_4!A18 -> Nayarit | O23: =Hidden_5!A2 -> No | P23: COMERCIO AL PORMENOR DE MATERIAL DE LIMPIEZA | Q23: =Hidden_6!A4 -> Boulevard | R23: TEPIC XALISCO | S23: 61 | U23: =Hidden_7!A7 -> Colonia | V23: NUEVO PROGRESO | W23: 17 | X23: TEPIC | Y23: 17 | Z23: TEPIC | AA23: 17 | AB23: =Hidden_8!A18 -> Nayarit | AC23: 63782 | AO23: 3115910077 | AP23: dogotepichcasas@gmail.com | AS23: Dirección de administracion | AT23: 46310
A24: 2026 | B24: 46204 | C24: 46295 | D24: =Hidden_1!A1 -> Persona física | E24: Cruz Gilberto | F24: Haro | G24: Hernández | H24: =Hidden_2!A2 -> Hombre | I24: Cruz Gilberto Hero Hernandez | K24: =Hidden_3!A1 -> Nacional | M24: HAHC690927NN9 | N24: =Hidden_4!A18 -> Nayarit | O24: =Hidden_5!A2 -> No | P24: VANTA DE EQWUIPO DE COMPUTO | Q24: =Hidden_6!A6 -> Calle | R24: RIO MISISIPI | S24: 8A | U24: =Hidden_7!A7 -> Colonia | V24: LINDAVISTA | W24: 17 | X24: TEPIC | Y24: 17 | Z24: TEPIC | AA24: 17 | AB24: =Hidden_8!A18 -> Nayarit | AC24: 63110 | AO24: 3112812856 | AP24: GILBERTOHARO@GMAIL.COM | AS24: Dirección de administracion | AT24: 46310
A25: 2026 | B25: 46204 | C25: 46295 | D25: =Hidden_1!A1 -> Persona física | E25: Hector Francisco | F25: Montes de oca | G25: Ordoñez | H25: =Hidden_2!A2 -> Hombre | I25: Hector Francisco Montes de Oca Ordoñez | K25: =Hidden_3!A1 -> Nacional | M25: MOOH690618355 | N25: =Hidden_4!A18 -> Nayarit | O25: =Hidden_5!A2 -> No | P25: VENTA DE EQUIPO DE COMPUTO | Q25: =Hidden_6!A6 -> Calle | R25: JUAN ESCUTIA | S25: 114 | U25: =Hidden_7!A7 -> Colonia | V25: CENTRO | W25: 17 | X25: TEPIC | Y25: 17 | Z25: TEPIC | AA25: 17 | AB25: =Hidden_8!A18 -> Nayarit | AC25: 63000 | AO25: 3111353641 | AP25: GRUPOCOMPUMUNDO@GMAIL.COM | AS25: Dirección de administracion | AT25: 46310
A26: 2026 | B26: 46204 | C26: 46295 | D26: =Hidden_1!A1 -> Persona física | E26: CCD Autosales Puerto Vallarta S. de R.L. de C.V. | H26: =Hidden_2!A2 -> Hombre | I26: CCD Autosales Puerto Vallarta S. de R.L. de C.V. | K26: =Hidden_3!A1 -> Nacional | M26: CAP070517CC3 | N26: =Hidden_4!A18 -> Nayarit | O26: =Hidden_5!A2 -> No | P26: VENTA, REPARACION Y MANTENIMIENTO DE AUTOMOVILES | Q26: =Hidden_6!A3 -> Avenida | R26: INSURGENTES | S26: 640 | U26: =Hidden_7!A7 -> Colonia | V26: CENTRO | W26: 17 | X26: TEPIC | Y26: 17 | Z26: TEPIC | AA26: 17 | AB26: =Hidden_8!A18 -> Nayarit | AC26: 63000 | AO26: 3111331323 | AS26: Dirección de administracion | AT26: 46310
A27: 2026 | B27: 46204 | C27: 46295 | D27: =Hidden_1!A1 -> Persona física | E27: Maria Ventura | F27: Espinosa | G27: Tovar | H27: =Hidden_2!A1 -> Mujer | I27: Maria Ventura Espinosa Tovar | K27: =Hidden_3!A1 -> Nacional | M27: EITV600926TV9 | N27: =Hidden_4!A18 -> Nayarit | O27: =Hidden_5!A2 -> No | P27: COMERCIO AL PORMENOR DE MATERIAL DE PAPELERÍA Y OFICINA | Q27: =Hidden_6!A6 -> Calle | R27: SAN LUIS | S27: 143 | U27: =Hidden_7!A7 -> Colonia | V27: CENTRO | W27: 17 | X27: TEPIC | Y27: 17 | Z27: TEPIC | AA27: 17 | AB27: =Hidden_8!A18 -> Nayarit | AC27: 63000 | AO27: 3112469926 | AP27: VENTAS.SANDELES@GMAIL.COM | AS27: Dirección de administracion | AT27: 46310

Sheet Hidden_1
A1: Persona física
A2: Persona moral

Sheet Hidden_2
A1: Mujer
A2: Hombre

Sheet Hidden_3
A1: Nacional
A2: Extranjero

Sheet Hidden_4
A1: Aguascalientes
A2: Baja California
A3: Baja California Sur
A4: Campeche
A5: Chiapas
A6: Chihuahua
A7: Ciudad de México
A8: Coahuila de Zaragoza
A9: Colima
A10: Durango
A11: Guanajuato
A12: Guerrero
... A32: Zacatecas

Sheet Hidden_5
A1: Sí
A2: No

Sheet Hidden_6
A1: Ampliación
A2: Andador
A3: Avenida
A4: Boulevard
A5: Brecha
A6: Calle
A7: Callejón
A8: Calzada
A9: Camino
A10: Carretera
A11: Cerrada
A12: Circuito
... A26: Viaducto

Sheet Hidden_7
A1: Aeropuerto
A2: Ampliación
A3: Barrio
A4: Cantón
A5: Ciudad
A6: Ciudad industrial
A7: Colonia
A8: Condominio
A9: Conjunto habitacional
A10: Corredor industrial
A11: Coto
A12: Cuartel
... A41: Zona naval

Sheet Hidden_8
A1: Aguascalientes
A2: Baja California
A3: Baja California Sur
A4: Campeche
A5: Chiapas
A6: Chihuahua
A7: Ciudad de México
A8: Coahuila de Zaragoza
A9: Colima
A10: Durango
A11: Guanajuato
A12: Guerrero
... A32: Zacatecas
