Workbook
Name Hidden_13: Hidden_1!$A$1:$A$10
Name Hidden_211: Hidden_2!$A$1:$A$2

Sheet Reporte de Formatos
A1: 9
A2: Título | D2: Nombre corto | G2: Descripción
A3: Remuneraciones brutas y netas de todas las personas servidoras públicas de base y de confianza | D3: LGT_65_VII.1 | G3: La información relativa a la remuneración mensual bruta y neta de conformidad con el tabulador de sueldos y salarios aplicable a cada sujeto obligado, así como todos los conceptos que sean adicionales y distintos a las remuneraciones, especificando la periodicidad con que se otorga cada uno de éstos (quincenal, mensual, semestral, anual, por única ocasión, etcétera)
A4: 1 | B4: 4 | C4: 4 | D4: 9 | E4: 1 | F4: 2 | G4: 2 | H4: 2 | I4: 1 | J4: 1 | K4: 1 | L4: 9 | M4: 6 | N4: 1 | O4: 6 | P4: 1 | Q4: 10 | R4: 10 | S4: 10 | T4: 10 | U4: 10 | V4: 10 | W4: 10 | X4: 10 | Y4: 10 | Z4: 10 | AA4: 10 | AB4: 10 | AC4: 10 | AD4: 2 | AE4: 13 | AF4: 14
A5: 124 | B5: 125 | C5: 126 | D5: 127 | E5: 128 | F5: 129 | G5: 130 | H5: 131 | I5: 132 | J5: 133 | K5: 134 | L5: 135 | M5: 136 | N5: 137 | O5: 138 | P5: 139 | Q5: 140 | R5: 141 | S5: 142 | T5: 143 | U5: 144 | V5: 145 | W5: 146 | X5: 147 | Y5: 148 | Z5: 149 | AA5: 155 | AB5: 150 | AC5: 151 | AD5: 152 | AE5: 153 | AF5: 154
A6: Tabla Campos
A7: Ejercicio | B7: Fecha de inicio del periodo que se informa | C7: Fecha de término del periodo que se informa | D7: Tipo de integrante del sujeto obligado (catálogo) | E7: Clave o nivel del puesto | F7: Denominación o descripción del puesto (Redactados con perspectiva de género) | G7: Denominación del cargo (de conformidad con el nombramiento otorgado) | H7: Área de adscripción | I7: Nombre (s) | J7: Primer apellido | K7: Segundo apellido | L7: Sexo (catálogo ) | M7: Monto de la remuneración mensual bruta, de conformidad al Tabulador de sueldos y salarios que corresponda | N7: Tipo de moneda de la remuneración mensual bruta | O7: Monto de la remuneración mensual neta, de conformidad al Tabulador de sueldos y salarios que corresponda | P7: Tipo de moneda de la remuneración mensual neta | Q7: Percepciones adicionales en dinero, Monto bruto y neto, tipo de moneda y su periodicidad Tabla_140 | R7: Percepciones adicionales en especie y su periodicidad Tabla_141 | S7: Ingresos, monto bruto y neto, tipo de moneda y su periodicidad Tabla_142 | T7: Sistemas de compensación, monto bruto y neto, tipo de moneda y su periodicidad Tabla_143 | U7: Gratificaciones, monto bruto y neto, tipo de moneda y su periodicidad Tabla_144 | V7: Primas, monto bruto y neto, tipo de moneda y su periodicidad Tabla_145 | W7: Comisiones, monto bruto y neto, tipo de moneda y su periodicidad Tabla_146 | X7: Dietas, monto bruto y neto, tipo de moneda y su periodicidad Tabla_147 | Y7: Bonos, monto bruto y neto, tipo de moneda y su periodicidad Tabla_148 | Z7: Estímulos, monto bruto y neto, tipo de moneda y su periodicidad Tabla_149 | AA7: Apoyos económicos, monto bruto y neto, tipo de moneda y su periodicidad Tabla_155 | AB7: Prestaciones económicas, monto bruto y neto, tipo de moneda y su periodicidad Tabla_150 | AC7: Prestaciones en especie y su periodicidad Tabla_151 | AD7: Área(s) responsable(s) que genera(n), posee(n), publica(n) y actualiza(n) la información | AE7: Fecha de Actualización | AF7: Nota
A8: 2026 | B8: 46204 | C8: 46295 | D8: Persona servidora pública | E8: 52 | F8: MAGISTRADA | G8: MAGISTRADA | H8: PLENO | I8: SELMA | J8: GOMEZ | K8: CASTELLON | L8: Mujer | M8: 169864.9 | N8: NACIONAL | O8: 79196.96 | P8: NACIONAL | Q8: =Tabla_140!A4 -> 1 | R8: =Tabla_141!A4 -> 1 | S8: =Tabla_142!A4 -> 1 | T8: =Tabla_143!A4 -> 1 | U8: =Tabla_144!A4 -> 1 | V8: =Tabla_145!A4 -> 1 | W8: =Tabla_146!A4 -> 1 | X8: =Tabla_147!A4 -> 1 | Y8: =Tabla_148!A4 -> 1 | Z8: =Tabla_149!A4 -> 1 | AA8: =Tabla_155!A4 -> 1 | AB8: =Tabla_150!A4 -> 1 | AC8: =Tabla_151!A4 -> 1 | AD8: DIRECCION DE ADMINISTRACION | AE8: 46302
A9: 2026 | B9: 46204 | C9: 46295 | D9: Persona servidora pública | E9: 34 | F9: MAGISTRADA | G9: MAGISTRADA | H9: PLENO | I9: MARTHA | J9: MARIN | K9: GARCIA | L9: Mujer | M9: 169864.9 | N9: NACIONAL | O9: 79196.96 | P9: NACIONAL | V9: =Tabla_145!A5 -> 2 | AD9: DIRECCION DE ADMINISTRACION | AE9: 46302
A10: 2026 | B10: 46204 | C10: 46295 | D10: Persona servidora pública | E10: 15 | F10: MAGISTRADA PRESIDENTA | G10: MAGISTRADA PRESIDENTA | H10: PLENO | I10: CANDELARIA | J10: RENTERIA | K10: GONZALEZ | L10: Mujer | M10: 169864.9 | N10: NACIONAL | O10: 79196.96 | P10: NACIONAL | V10: =Tabla_145!A6 -> 3 | AD10: DIRECCION DE ADMINISTRACION | AE10: 46302
A11: 2026 | B11: 46204 | C11: 46295 | D11: Persona servidora pública | E11: 78 | F11: OFICIAL SECRETARIO | G11: OFICIAL SECRETARIO | H11: SECRETARIA GENERAL DE ACUERDOS | I11: XIMENA | J11: ALVAREZ | K11: MORALES | L11: Mujer | M11: 25514.38 | N11: NACIONAL | O11: 15813.34 | P11: NACIONAL | V11: =Tabla_145!A7 -> 4 | AD11: DIRECCION DE ADMINISTRACION | AE11: 46302
A12: 2026 | B12: 46204 | C12: 46295 | D12: Persona servidora pública | E12: 65 | F12: COORDINADORA DE ARCHIVO | G12: COORDINADORA DE ARCHIVO | H12: SECRETARIA GENERAL DE ACUERDOS | I12: AUSTRIA VERONICA | J12: ARTEAGA | K12: RIVERA | L12: Mujer | M12: 29432.16 | N12: NACIONAL | O12: 17742 | P12: NACIONAL | V12: =Tabla_145!A8 -> 5 | AD12: DIRECCION DE ADMINISTRACION | AE12: 46302
A13: 2026 | B13: 46204 | C13: 46295 | D13: Persona servidora pública | E13: 61 | F13: OFICIAL SECRETARIO | G13: OFICIAL SECRETARIO | H13: PONENCIA | I13: SILVIA GEORGINA | J13: BONILLA | K13: HARO | L13: Mujer | M13: 25514.38 | N13: NACIONAL | O13: 15813.34 | P13: NACIONAL | V13: =Tabla_145!A9 -> 6 | AD13: DIRECCION DE ADMINISTRACION | AE13: 46302
A14: 2026 | B14: 46204 | C14: 46295 | D14: Persona servidora pública | E14: 77 | F14: AUXILIAR ADMINISTRATIVO | G14: AUXILIAR ADMINISTRATIVO | H14: SECRETARIA GENERAL DE ACUERDOS | I14: PAOLA | J14: BRISEÑO | K14: FIERRO | L14: Mujer | M14: 25514.38 | N14: NACIONAL | O14: 15813.34 | P14: NACIONAL | V14: =Tabla_145!A10 -> 7 | AD14: DIRECCION DE ADMINISTRACION | AE14: 46302
A15: 2026 | B15: 46204 | C15: 46295 | D15: Persona servidora pública | E15: 67 | F15: SECRETARIO INSTRUCTOR DE ESTUDIO Y CUENTA | G15: SECRETARIO INSTRUCTOR DE ESTUDIO Y CUENTA | H15: PONENCIA | I15: LUCINA CECILIA | J15: JIMENEZ | K15: TORIZ | L15: Mujer | M15: 70046.18 | N15: NACIONAL | O15: 37748.52 | P15: NACIONAL | V15: =Tabla_145!A11 -> 8 | AD15: DIRECCION DE ADMINISTRACION | AE15: 46302
A16: 2026 | B16: 46204 | C16: 46295 | D16: Persona servidora pública | E16: 37 | F16: SECRETARIO INSTRUCTOR DE ESTUDIO Y CUENTA | G16: SECRETARIO INSTRUCTOR DE ESTUDIO Y CUENTA | H16: PONENCIA | I16: EDNY GUADALUPE | J16: LOPEZ | K16: LOPEZ | L16: Mujer | M16: 70046.18 | N16: NACIONAL | O16: 37748.52 | P16: NACIONAL | V16: =Tabla_145!A12 -> 9 | AD16: DIRECCION DE ADMINISTRACION | AE16: 46302
A17: 2026 | B17: 46204 | C17: 46295 | D17: Persona servidora pública | E17: 13 | F17: OFICIAL DE PARTES | G17: OFICIAL DE PARTES | H17: COORDINACION DE ARCHIVO | I17: WENDY JANETH | J17: LLAMAS | K17: ANZALDO | L17: Mujer | M17: 52511.98 | N17: NACIONAL | O17: 29539.28 | P17: NACIONAL | V17: =Tabla_145!A13 -> 10 | AD17: DIRECCION DE ADMINISTRACION | AE17: 46302
A18: 2026 | B18: 46204 | C18: 46295 | D18: Persona servidora pública | E18: 64 | F18: OFICIAL SECRETARIO | G18: OFICIAL SECRETARIO | H18: PONENCIA | I18: JESSICA | J18: MEDINA | K18: PARTIDA | L18: Mujer | M18: 25514.38 | N18: NACIONAL | O18: 15813.34 | P18: NACIONAL | V18: =Tabla_145!A14 -> 11 | AD18: DIRECCION DE ADMINISTRACION | AE18: 46302
A19: 2026 | B19: 46204 | C19: 46295 | D19: Persona servidora pública | E19: 35 | F19: OFICIAL SECRETARIO | G19: OFICIAL SECRETARIO | H19: PONENCIA | I19: ALICIA MARTINA | J19: PADILLA | K19: LOPEZ | L19: Mujer | M19: 25514.38 | N19: NACIONAL | O19: 15813.34 | P19: NACIONAL | V19: =Tabla_145!A15 -> 12 | AD19: DIRECCION DE ADMINISTRACION | AE19: 46302
A20: 2026 | B20: 46204 | C20: 46295 | D20: Persona servidora pública | E20: 63 | F20: SECRETARIO GENERAL | G20: SECRETARIO GENERAL | H20: SECRETARIA GENERAL DE ACUERDOS | I20: MARTHA VERONICA | J20: RODRIGUEZ | K20: HERNANDEZ | L20: Mujer | M20: 97391.4 | N20: NACIONAL | O20: 49748.5 | P20: NACIONAL | V20: =Tabla_145!A16:A16 -> 13 | AD20: DIRECCION DE ADMINISTRACION | AE20: 46302
A21: 2026 | B21: 46204 | C21: 46295 | D21: Persona servidora pública | E21: 59 | F21: ACTUARIO | G21: ACTUARIO | H21: SECRETARIA GENERAL DE ACUERDOS | I21: LIRIO DE LOS ANGELES | J21: ROJAS | K21: CASAS | L21: Mujer | M21: 29432.16 | N21: NACIONAL | O21: 17742 | P21: NACIONAL | V21: =Tabla_145!A17 -> 14 | AD21: DIRECCION DE ADMINISTRACION | AE21: 46302
A22: 2026 | B22: 46204 | C22: 46295 | D22: Persona servidora pública | E22: 32 | F22: SECRETARIO INSTRUCTOR DE ESTUDIO Y CUENTA | G22: SECRETARIO INSTRUCTOR DE ESTUDIO Y CUENTA | H22: PONENCIA | I22: RAUL ALEJANDRO | J22: SANDOVAL | K22: RODELA | L22: Mujer | M22: 70046.18 | N22: NACIONAL | O22: 37748.52 | P22: NACIONAL | V22: =Tabla_145!A18 -> 15 | AD22: DIRECCION DE ADMINISTRACION | AE22: 46302
A23: 2026 | B23: 46204 | C23: 46295 | D23: Persona servidora pública | E23: 29 | F23: JEFE DE DEPARTAMENTO DE ADMINISTRACION | G23: JEFE DE DEPARTAMENTO DE ADMINISTRACION | H23: DIRECCION DE ADMINISTRACION | I23: SAYURI JAQUELINE | J23: ALVAREZ | K23: LOPEZ | L23: Mujer | M23: 33034.82 | N23: NACIONAL | O23: 19669.56 | P23: NACIONAL | V23: =Tabla_145!A19 -> 16 | AD23: DIRECCION DE ADMINISTRACION | AE23: 46302
A24: 2026 | B24: 46204 | C24: 46295 | D24: Persona servidora pública | E24: 28 | F24: ENCARGADO DEL AREA DE COMUNICACION INFORMATICA Y REDES | G24: ENCARGADO DEL AREA DE COMUNICACION INFORMATICA Y REDES | H24: DIRECCION DE ADMINISTRACION | I24: LILIAN MICHEL | J24: CAMPOS | K24: AGUIRRE | L24: Mujer | M24: 25804.86 | N24: NACIONAL | O24: 15835.64 | P24: NACIONAL | V24: =Tabla_145!A20 -> 17 | AD24: DIRECCION DE ADMINISTRACION | AE24: 46302
A25: 2026 | B25: 46204 | C25: 46295 | D25: Persona servidora pública | E25: 22 | F25: DIRECTOR DE ADMINISTRACION | G25: DIRECTOR DE ADMINISTRACION | H25: DIRECCION DE ADMINISTRACION | I25: ROCIO DEL REFUGIO | J25: CARRILLO | K25: ARECHIGA | L25: Mujer | M25: 97391.4 | N25: NACIONAL | O25: 49748.5 | P25: NACIONAL | V25: =Tabla_145!A21 -> 18 | AD25: DIRECCION DE ADMINISTRACION | AE25: 46302
A26: 2026 | B26: 46204 | C26: 46295 | D26: Persona servidora pública | E26: 57 | F26: AUXILIAR ADMINISTRATIVO | G26: AUXILIAR ADMINISTRATIVO | H26: DIRECCION DE ADMINISTRACION | I26: FERNANDO JOEL | J26: GARCIA | K26: YAÑEZ | L26: Hombre | M26: 25514.38 | N26: NACIONAL | O26: 15813.34 | P26: NACIONAL | V26: =Tabla_145!A22 -> 19 | AD26: DIRECCION DE ADMINISTRACION | AE26: 46302
A27: 2026 | B27: 46204 | C27: 46295 | D27: Persona servidora pública | E27: 24 | F27: AUXILIAR DE MENSAJERO | G27: AUXILIAR DE MENSAJERO | H27: DIRECCION DE ADMINISTRACION | I27: OSCAR | J27: HERNANDEZ | K27: DE LA PAZ | L27: Hombre | M27: 15163.84 | N27: NACIONAL | O27: 9941 | P27: NACIONAL | V27: =Tabla_145!A23 -> 20 | AD27: DIRECCION DE ADMINISTRACION | AE27: 46302
A28: 2026 | B28: 46204 | C28: 46295 | D28: Persona servidora pública | E28: 76 | F28: AUXILIAR ADMINISTRATIVO | G28: AUXILIAR ADMINISTRATIVO | H28: DIRECCION DE ADMINISTRACION | I28: JORGE EUGENIO | J28: LOPEZ | K28: ZAVALA | L28: Hombre | M28: 25514.38 | N28: NACIONAL | O28: 15813.34 | P28: NACIONAL | V28: =Tabla_145!A24 -> 21 | AD28: DIRECCION DE ADMINISTRACION | AE28: 46302
A29: 2026 | B29: 46204 | C29: 46295 | D29: Persona servidora pública | E29: 58 | F29: TITULAR DEL DEPTO DE AUDITORIA E INVESTIGACION DEL OIC | G29: TITULAR DEL DEPTO DE AUDITORIA E INVESTIGACION DEL OIC | H29: ORGANO INTERNO DE CONTROL | I29: DALIA ANGELICA | J29: FLORES | K29: PEREZ | L29: Mujer | M29: 33034.82 | N29: NACIONAL | O29: 19669.56 | P29: NACIONAL | V29: =Tabla_145!A25 -> 22 | AD29: DIRECCION DE ADMINISTRACION | AE29: 46302
A30: 2026 | B30: 46204 | C30: 46295 | D30: Persona servidora pública | E30: 54 | F30: TITULAR DEL DEPTO SUBSTANCIADOR DEL OIC | G30: TITULAR DEL DEPTO SUBSTANCIADOR DEL OIC | H30: ORGANO INTERNO DE CONTROL | I30: EDUARDO | J30: HERNANDEZ | K30: UREÑA | L30: Hombre | M30: 33034.82 | N30: NACIONAL | O30: 19669.56 | P30: NACIONAL | V30: =Tabla_145!A26 -> 23 | AD30: DIRECCION DE ADMINISTRACION | AE30: 46302
A31: 2026 | B31: 46204 | C31: 46295 | D31: Persona servidora pública | E31: 55 | F31: CONTRALOR INTERNO | G31: CONTRALOR INTERNO | H31: ORGANO INTERNO DE CONTROL | I31: ROSA ISELA | J31: OTERO | K31: LOPEZ | L31: Mujer | M31: 25804.86 | N31: NACIONAL | O31: 15835.64 | P31: NACIONAL | V31: =Tabla_145!A27 -> 24 | AD31: DIRECCION DE ADMINISTRACION | AE31: 46302
A32: 2026 | B32: 46204 | C32: 46295 | D32: Persona servidora pública | E32: 58 | F32: TITULAR DEL DEPTO DE AUDITORIA E INVESTIGACION DEL OIC | G32: TITULAR DEL DEPTO DE AUDITORIA E INVESTIGACION DEL OIC | H32: ORGANO INTERNO DE CONTROL | I32: DYLAN JEDDAH | J32: BARRERAS | K32: GAMEROS | L32: Hombre | M32: 33034.82 | N32: NACIONAL | O32: 19669.56 | P32: NACIONAL | V32: =Tabla_145!A28 -> 25 | AD32: DIRECCION DE ADMINISTRACION | AE32: 46302
A33: 2026 | B33: 46204 | C33: 46295 | D33: Persona servidora pública | E33: 79 | F33: SECRETARIA PARTICULAR | G33: SECRETARIA PARTICULAR | H33: PRESIDENCIA | I33: OFELIA YESMIN | J33: SORIA | K33: LOMELI | L33: Mujer | M33: 17693.9 | N33: NACIONAL | O33: 11444.74 | P33: NACIONAL | V33: =Tabla_145!A29 -> 26 | AD33: DIRECCION DE ADMINISTRACION | AE33: 46302

Sheet Hidden_1
A1: Funcionaria (o)
A2: Persona servidora pública
A3: Persona servidora pública eventual
A4: Integrante
A5: Empleada (o)
A6: Representante popular
A7: Miembro del poder judicial
A8: Miembro de órgano autónomo
A9: Personal de confianza
A10: Otro

Sheet Hidden_2
A1: Mujer
A2: Hombre

Sheet Tabla_140
B1: 2 | C1: 6 | D1: 6 | E1: 1 | F1: 1
B2: 4 | C2: 5 | D2: 6 | E2: 7 | F2: 8
A3: ID | B3: Denominación de las percepciones adicionales en dinero | C3: Monto bruto de las percepciones adicionales en dinero | D3: Monto neto de las percepciones adicionales en dinero | E3: Tipo de moneda de las percepciones adicionales en dinero | F3: Periodicidad de las percepciones adicionales en dinero
A4: 1 | B4: En el periodo que se informa no se generó información sobre Percepciones adicionales en dinero, Monto bruto y neto, tipo de moneda y su periodicidad | C4: En el periodo que se informa no se generó información sobre Percepciones adicionales en dinero, Monto bruto y neto, tipo de moneda y su periodicidad | D4: En el periodo que se informa no se generó información sobre Percepciones adicionales en dinero, Monto bruto y neto, tipo de moneda y su periodicidad | E4: En el periodo que se informa no se generó información sobre Percepciones adicionales en dinero, Monto bruto y neto, tipo de moneda y su periodicidad | F4: En el periodo que se informa no se generó información sobre Percepciones adicionales en dinero, Monto bruto y neto, tipo de moneda y su periodicidad

Sheet Tabla_141
B1: 2 | C1: 1
B2: 9 | C2: 10
A3: ID | B3: Descripción de las percepciones adicionales en especie | C3: Periodicidad de las percepciones adicionales en especie
A4: 1 | B4: En el periodo que se informa no se generó información sobre Percepciones adicionales en especie y su periodicidad | C4: En el periodo que se informa no se generó información sobre Percepciones adicionales en especie y su periodicidad

Sheet Tabla_142
B1: 2 | C1: 6 | D1: 6 | E1: 1 | F1: 1
B2: 11 | C2: 12 | D2: 13 | E2: 14 | F2: 15
A3: ID | B3: Denominación de los ingresos | C3: Monto bruto de los ingresos | D3: Monto neto de los ingresos | E3: Tipo de moneda de los ingresos | F3: Periodicidad de los ingresos
A4: 1 | B4: En el periodo que se informa no se generó informacion sobre Ingresos, monto bruto y neto, tipo de moneda y su periodicidad | C4: En el periodo que se informa no se generó informacion sobre Ingresos, monto bruto y neto, tipo de moneda y su periodicidad | D4: En el periodo que se informa no se generó informacion sobre Ingresos, monto bruto y neto, tipo de moneda y su periodicidad | E4: En el periodo que se informa no se generó informacion sobre Ingresos, monto bruto y neto, tipo de moneda y su periodicidad | F4: En el periodo que se informa no se generó informacion sobre Ingresos, monto bruto y neto, tipo de moneda y su periodicidad

Sheet Tabla_143
B1: 2 | C1: 6 | D1: 6 | E1: 1 | F1: 1
B2: 16 | C2: 17 | D2: 18 | E2: 19 | F2: 20
A3: ID | B3: Denominación de los sistemas de compensación | C3: Monto bruto de los sistemas de compensación | D3: Monto neto de los sistemas de compensación | E3: Tipo de moneda de los sistemas de compensación | F3: Periodicidad de los sistemas de compensación
A4: 1 | B4: En el periodo que se informa no se generó información sobre Sistemas de compensación, monto bruto y neto, tipo de moneda y su periodicidad | C4: En el periodo que se informa no se generó información sobre Sistemas de compensación, monto bruto y neto, tipo de moneda y su periodicidad | D4: En el periodo que se informa no se generó información sobre Sistemas de compensación, monto bruto y neto, tipo de moneda y su periodicidad | E4: En el periodo que se informa no se generó información sobre Sistemas de compensación, monto bruto y neto, tipo de moneda y su periodicidad | F4: En el periodo que se informa no se generó información sobre Sistemas de compensación, monto bruto y neto, tipo de moneda y su periodicidad

Sheet Tabla_144
B1: 2 | C1: 6 | D1: 6 | E1: 1 | F1: 1
B2: 21 | C2: 22 | D2: 23 | E2: 24 | F2: 25
A3: ID | B3: Denominación de las gratificaciones | C3: Monto bruto de las gratificaciones | D3: Monto neto de las gratificaciones | E3: Tipo de moneda de las gratificaciones | F3: Periodicidad de las gratificaciones
A4: 1 | B4: En el periodo que se informa no se generó información sobre Gratificaciones, monto bruto y neto, tipo de moneda y su periodicidad | C4: En el periodo que se informa no se generó información sobre Gratificaciones, monto bruto y neto, tipo de moneda y su periodicidad | D4: En el periodo que se informa no se generó información sobre Gratificaciones, monto bruto y neto, tipo de moneda y su periodicidad | E4: En el periodo que se informa no se generó información sobre Gratificaciones, monto bruto y neto, tipo de moneda y su periodicidad | F4: En el periodo que se informa no se generó información sobre Gratificaciones, monto bruto y neto, tipo de moneda y su periodicidad

Sheet Tabla_145
B1: 2 | C1: 6 | D1: 6 | E1: 1 | F1: 1
B2: 26 | C2: 27 | D2: 28 | E2: 29 | F2: 30
A3: ID | B3: Denominación de las primas | C3: Monto bruto de las primas | D3: Monto neto de las primas | E3: Tipo de moneda de las primas | F3: Periodicidad de las primas
A4: 1 | B4: PRIMA VACACIONAL | C4: 24618.1 | D4: 16547.09 | E4: MONEDA NACIONAL | F4: SEMESTRAL
A5: 2 | B5: PRIMA VACACIONAL | C5: 24618.1 | D5: 16547.09 | E5: MONEDA NACIONAL | F5: SEMESTRAL
A6: 3 | B6: PRIMA VACACIONAL | C6: 24618.1 | D6: 16547.09 | E6: MONEDA NACIONAL | F6: SEMESTRAL
A7: 4 | B7: PRIMA VACACIONAL | C7: 3697.75 | D7: 309583 | E7: MONEDA NACIONAL | F7: SEMESTRAL
A8: 5 | B8: PRIMA VACACIONAL | C8: 4265.55 | D8: 3542.37 | E8: MONEDA NACIONAL | F8: SEMESTRAL
A9: 6 | B9: PRIMA VACACIONAL | C9: 3697.75 | D9: 3095.83 | E9: MONEDA NACIONAL | F9: SEMESTRAL
A10: 7 | B10: PRIMA VACACIONAL | C10: 3697.75 | D10: 3095.83 | E10: MONEDA NACIONAL | F10: SEMESTRAL
A11: 8 | B11: PRIMA VACACIONAL | C11: 10151.6 | D11: 7370.06 | E11: MONEDA NACIONAL | F11: SEMESTRAL
A12: 9 | B12: PRIMA VACACIONAL | C12: 10151.6 | D12: 7370.06 | E12: MONEDA NACIONAL | F12: SEMESTRAL
A13: 10 | B13: PRIMA VACACIONAL | C13: 7564.79 | D13: 5991.24 | E13: MONEDA NACIONAL | F13: SEMESTRAL
A14: 11 | B14: PRIMA VACACIONAL | C14: 3697.75 | D14: 3095.83 | E14: MONEDA NACIONAL | F14: SEMESTRAL
A15: 12 | B15: PRIMA VACACIONAL | C15: 3697.75 | D15: 3095.83 | E15: MONEDA NACIONAL | F15: SEMESTRAL
... A29: 26 | B29: PRIMA VACACIONAL | C29: 2564.35 | D29: 2262.48 | E29: MONEDA NACIONAL | F29: SEMESTRAL

Sheet Tabla_146
B1: 2 | C1: 6 | D1: 6 | E1: 1 | F1: 1
B2: 31 | C2: 32 | D2: 33 | E2: 34 | F2: 35
A3: ID | B3: Denominación de las comisiones | C3: Monto bruto de las comisiones | D3: Monto neto de las comisiones | E3: Tipo de moneda de las comisiones | F3: Periodicidad de las comisiones
A4: 1 | B4: En el periodo que se informa no se generó información sobre Comisiones, monto bruto y neto, tipo de moneda y su periodicidad | C4: En el periodo que se informa no se generó información sobre Comisiones, monto bruto y neto, tipo de moneda y su periodicidad | D4: En el periodo que se informa no se generó información sobre Comisiones, monto bruto y neto, tipo de moneda y su periodicidad | E4: En el periodo que se informa no se generó información sobre Comisiones, monto bruto y neto, tipo de moneda y su periodicidad | F4: En el periodo que se informa no se generó información sobre Comisiones, monto bruto y neto, tipo de moneda y su periodicidad

Sheet Tabla_147
B1: 2 | C1: 6 | D1: 6 | E1: 1 | F1: 1
B2: 36 | C2: 37 | D2: 38 | E2: 39 | F2: 40
A3: ID | B3: Denominación de las dietas | C3: Monto bruto de las dietas | D3: Monto neto de las dietas | E3: Tipo de moneda de las dietas | F3: Periodicidad de las dietas
A4: 1 | B4: En el periodo que se informa no se generó información sobre Dietas, monto bruto y neto, tipo de moneda y su periodicidad | C4: En el periodo que se informa no se generó información sobre Dietas, monto bruto y neto, tipo de moneda y su periodicidad | D4: En el periodo que se informa no se generó información sobre Dietas, monto bruto y neto, tipo de moneda y su periodicidad | E4: En el periodo que se informa no se generó información sobre Dietas, monto bruto y neto, tipo de moneda y su periodicidad | F4: En el periodo que se informa no se generó información sobre Dietas, monto bruto y neto, tipo de moneda y su periodicidad

Sheet Tabla_148
B1: 2 | C1: 6 | D1: 6 | E1: 1 | F1: 1
B2: 41 | C2: 42 | D2: 43 | E2: 44 | F2: 45
A3: ID | B3: Denominación de los bonos | C3: Monto bruto de los bonos | D3: Monto neto de los bonos | E3: Tipo de moneda de los bonos | F3: Periodicidad de los bonos
A4: 1 | B4: En el periodo que se informa no se generó información sobre Bonos, monto bruto y neto, tipo de moneda y su periodicidad | C4: En el periodo que se informa no se generó información sobre Bonos, monto bruto y neto, tipo de moneda y su periodicidad | D4: En el periodo que se informa no se generó información sobre Bonos, monto bruto y neto, tipo de moneda y su periodicidad | E4: En el periodo que se informa no se generó información sobre Bonos, monto bruto y neto, tipo de moneda y su periodicidad | F4: En el periodo que se informa no se generó información sobre Bonos, monto bruto y neto, tipo de moneda y su periodicidad

Sheet Tabla_149
B1: 2 | C1: 6 | D1: 6 | E1: 1 | F1: 1
B2: 46 | C2: 47 | D2: 48 | E2: 49 | F2: 50
A3: ID | B3: Denominación de los estímulos | C3: Monto bruto de los estímulos | D3: Monto neto de los estímulos | E3: Tipo de moneda de los estímulos | F3: Periodicidad de los estímulos
A4: 1 | B4: En el periodo que se informa no se generó información sobre Estímulos, monto bruto y neto, tipo de moneda y su periodicidad | C4: En el periodo que se informa no se generó información sobre Estímulos, monto bruto y neto, tipo de moneda y su periodicidad | D4: En el periodo que se informa no se generó información sobre Estímulos, monto bruto y neto, tipo de moneda y su periodicidad | E4: En el periodo que se informa no se generó información sobre Estímulos, monto bruto y neto, tipo de moneda y su periodicidad | F4: En el periodo que se informa no se generó información sobre Estímulos, monto bruto y neto, tipo de moneda y su periodicidad

Sheet Tabla_155
B1: 2 | C1: 6 | D1: 6 | E1: 1 | F1: 1
B2: 58 | C2: 59 | D2: 60 | E2: 61 | F2: 62
A3: ID | B3: Denominación de los apoyos económicos | C3: Monto bruto de los apoyos económicos | D3: Monto neto de los apoyos económicos | E3: Tipo de moneda de los apoyos económicos | F3: Periodicidad de los apoyos económicos
A4: 1 | B4: En el periodo que se informa no se generó información sobre Apoyos económicos, monto bruto y neto, tipo de moneda y su periodicidad | C4: En el periodo que se informa no se generó información sobre Apoyos económicos, monto bruto y neto, tipo de moneda y su periodicidad | D4: En el periodo que se informa no se generó información sobre Apoyos económicos, monto bruto y neto, tipo de moneda y su periodicidad | E4: En el periodo que se informa no se generó información sobre Apoyos económicos, monto bruto y neto, tipo de moneda y su periodicidad | F4: En el periodo que se informa no se generó información sobre Apoyos económicos, monto bruto y neto, tipo de moneda y su periodicidad

Sheet Tabla_150
B1: 2 | C1: 6 | D1: 6 | E1: 1 | F1: 1
B2: 51 | C2: 52 | D2: 53 | E2: 54 | F2: 55
A3: ID | B3: Denominación de las prestaciones económicas | C3: Monto bruto de las prestaciones económicas | D3: Monto neto de las prestaciones económicas | E3: Tipo de moneda de las prestaciones económicas | F3: Periodicidad de las prestaciones económicas
A4: 1 | B4: En el periodo que se informa no se generó información sobre Prestaciones económicas, monto bruto y neto, tipo de moneda y su periodicidad | C4: En el periodo que se informa no se generó información sobre Prestaciones económicas, monto bruto y neto, tipo de moneda y su periodicidad | D4: En el periodo que se informa no se generó información sobre Prestaciones económicas, monto bruto y neto, tipo de moneda y su periodicidad | E4: En el periodo que se informa no se generó información sobre Prestaciones económicas, monto bruto y neto, tipo de moneda y su periodicidad | F4: En el periodo que se informa no se generó información sobre Prestaciones económicas, monto bruto y neto, tipo de moneda y su periodicidad

Sheet Tabla_151
B1: 2 | C1: 1
B2: 56 | C2: 57
A3: ID | B3: Descripción de las prestaciones en especie | C3: Periodicidad de las prestaciones en especie
A4: 1 | B4: En el periodo que se informa no se generó información sobre Prestaciones en especie y su periodicidad | C4: En el periodo que se informa no se generó información sobre Prestaciones en especie y su periodicidad
